BEGIN:VCALENDAR
VERSION:2.0
PRODID:Imitheme.com 
BEGIN:VEVENT
UID:20260420T1655381713542135
DTSTAMP;TZID=UTC:2026-04-20 16:55:38
DTSTART;TZID=America/Los_Angeles:20240824T000000
DTEND;TZID=America/Los_Angeles:20240824T000000
SUMMARY:„Kräuterspaziergang – Frauendreißiger und seine Kräuter“
LOCATION:Kultur- & Eventscheune Esbach\, 91550 Dinkelsbühl
DESCRIPTION:An diesem Sommermorgen lade ich dich herzlich ein mit mir einen Kräuterspaziergang zu unternehmen. Wir befinden uns im Frauendreißiger. Was bedeutet dieses Wort? Was hat es mit Wildkräutern zu tun? Genau das möchte ich dir bei diesem Spaziergang erklären und du bekommst die passenden Kräuter dazu gezeigt. Du erfährst ihren Nutzen und ihre Wirkung. Dazu erhältst du das passende Handout damit du zu Hause alles in Ruhe noch einmal nachlesen kannst.
URL:https://wunderwerk-natur.com/eventer/kraeuterspaziergang-frauendreissiger-und-seine-kraeuter/
END:VEVENT
END:VCALENDAR
